
BEGIN:VCALENDAR
VERSION:2.0
PRODID:-//85.13.157.133//NONSGML kigkonsult.se iCalcreator 2.20//
CALSCALE:GREGORIAN
METHOD:PUBLISH
X-WR-TIMEZONE:Europe/Berlin
BEGIN:VEVENT
UID:event2600@NaturFreunde Bielefeld e.V.
DTSTAMP:20260421T110522Z
CATEGORIES:Senioren
DESCRIPTION:Seniorenspaziergang im Tierpark Olderdissen\nKategorie: Seniore
 n\nICS-Link: https://www.test.naturfreunde-bielefeld.de/index.php?option=c
 om_jem&view=event&id=2600:seniorenspaziergang-im-tierpark-olderdissen\n
DTSTART;VALUE=DATE:20250716
DTEND;VALUE=DATE:20250717
SUMMARY:Seniorenspaziergang im Tierpark Olderdissen
URL:https://www.test.naturfreunde-bielefeld.de/index.php?option=com_jem&vie
 w=event&id=2600:seniorenspaziergang-im-tierpark-olderdissen
END:VEVENT
END:VCALENDAR
