
BEGIN:VCALENDAR
VERSION:2.0
PRODID:-//85.13.157.133//NONSGML kigkonsult.se iCalcreator 2.20//
CALSCALE:GREGORIAN
METHOD:PUBLISH
X-WR-TIMEZONE:Europe/Berlin
BEGIN:VEVENT
UID:event2603@NaturFreunde Bielefeld e.V.
DTSTAMP:20260421T090437Z
CATEGORIES:Nordic Walking
DESCRIPTION:Nordic-Walking am und um den Meierhof Heepen\nKategorie: Nordic
  Walking\nICS-Link: https://www.test.naturfreunde-bielefeld.de/index.php?o
 ption=com_jem&view=event&id=2603:nordic-walking-am-und-um-den-meierhof-hee
 pen\n
DTSTART;VALUE=DATE:20250727
DTEND;VALUE=DATE:20250728
SUMMARY:Nordic-Walking am und um den Meierhof Heepen
URL:https://www.test.naturfreunde-bielefeld.de/index.php?option=com_jem&vie
 w=event&id=2603:nordic-walking-am-und-um-den-meierhof-heepen
END:VEVENT
END:VCALENDAR
