
BEGIN:VCALENDAR
VERSION:2.0
PRODID:-//85.13.157.133//NONSGML kigkonsult.se iCalcreator 2.20//
CALSCALE:GREGORIAN
METHOD:PUBLISH
X-WR-TIMEZONE:Europe/Berlin
BEGIN:VEVENT
UID:event2607@NaturFreunde Bielefeld e.V.
DTSTAMP:20260423T101131Z
CATEGORIES:Kanu
DESCRIPTION:Wupper\nKategorie: Kanu\nICS-Link: https://www.test.naturfreund
 e-bielefeld.de/index.php?option=com_jem&view=event&id=2607:wupper\n
DTSTART;VALUE=DATE:20250809
DTEND;VALUE=DATE:20250810
SUMMARY:Wupper
URL:https://www.test.naturfreunde-bielefeld.de/index.php?option=com_jem&vie
 w=event&id=2607:wupper
END:VEVENT
END:VCALENDAR
