
BEGIN:VCALENDAR
VERSION:2.0
PRODID:-//85.13.157.133//NONSGML kigkonsult.se iCalcreator 2.20//
CALSCALE:GREGORIAN
METHOD:PUBLISH
X-WR-TIMEZONE:Europe/Berlin
BEGIN:VEVENT
UID:event2608@NaturFreunde Bielefeld e.V.
DTSTAMP:20260419T183700Z
CATEGORIES:Jugend
DESCRIPTION:Aktiv Camp in Slowenien\nKategorie: Jugend\nICS-Link: https://w
 ww.test.naturfreunde-bielefeld.de/index.php?option=com_jem&view=event&id=2
 608:aktiv-camp-in-slowenien\n
DTSTART;VALUE=DATE:20250810
DTEND;VALUE=DATE:20250825
SUMMARY:Aktiv Camp in Slowenien
URL:https://www.test.naturfreunde-bielefeld.de/index.php?option=com_jem&vie
 w=event&id=2608:aktiv-camp-in-slowenien
END:VEVENT
END:VCALENDAR
