
BEGIN:VCALENDAR
VERSION:2.0
PRODID:-//85.13.157.133//NONSGML kigkonsult.se iCalcreator 2.20//
CALSCALE:GREGORIAN
METHOD:PUBLISH
X-WR-TIMEZONE:Europe/Berlin
BEGIN:VEVENT
UID:event2613@NaturFreunde Bielefeld e.V.
DTSTAMP:20260419T184028Z
CATEGORIES:Wanderungen
DESCRIPTION:Rundwanderung von Ottbergen über den Kalkmagerrasen\nKategorie:
  Wanderungen\nICS-Link: https://www.test.naturfreunde-bielefeld.de/index.p
 hp?option=com_jem&view=event&id=2613:rundwanderung-von-ottbergen-ueber-den
 -kalkmagerrasen\n
DTSTART;VALUE=DATE:20250823
DTEND;VALUE=DATE:20250824
SUMMARY:Rundwanderung von Ottbergen über den Kalkmagerrasen
URL:https://www.test.naturfreunde-bielefeld.de/index.php?option=com_jem&vie
 w=event&id=2613:rundwanderung-von-ottbergen-ueber-den-kalkmagerrasen
END:VEVENT
END:VCALENDAR
