
BEGIN:VCALENDAR
VERSION:2.0
PRODID:-//85.13.157.133//NONSGML kigkonsult.se iCalcreator 2.20//
CALSCALE:GREGORIAN
METHOD:PUBLISH
X-WR-TIMEZONE:Europe/Berlin
BEGIN:VEVENT
UID:event2617@NaturFreunde Bielefeld e.V.
DTSTAMP:20260419T152802Z
CATEGORIES:Ortsgruppe
DESCRIPTION:Vorbereitung für den Triathlon\nKategorie: Ortsgruppe\nICS-Link
 : https://www.test.naturfreunde-bielefeld.de/index.php?option=com_jem&view
 =event&id=2617:vorbereitung-fuer-den-triathlon\n
DTSTART;VALUE=DATE:20250829
DTEND;VALUE=DATE:20250830
SUMMARY:Vorbereitung für den Triathlon
URL:https://www.test.naturfreunde-bielefeld.de/index.php?option=com_jem&vie
 w=event&id=2617:vorbereitung-fuer-den-triathlon
END:VEVENT
END:VCALENDAR
