
BEGIN:VCALENDAR
VERSION:2.0
PRODID:-//85.13.157.133//NONSGML kigkonsult.se iCalcreator 2.20//
CALSCALE:GREGORIAN
METHOD:PUBLISH
X-WR-TIMEZONE:Europe/Berlin
BEGIN:VEVENT
UID:event2618@NaturFreunde Bielefeld e.V.
DTSTAMP:20260419T170253Z
CATEGORIES:Ortsgruppe
DESCRIPTION:Kanu-Triathlon\nKategorie: Ortsgruppe\nICS-Link: https://www.te
 st.naturfreunde-bielefeld.de/index.php?option=com_jem&view=event&id=2618:k
 anu-triathlon\n
DTSTART;VALUE=DATE:20250830
DTEND;VALUE=DATE:20250831
LOCATION:PB-Sande\,Am Holthof (Münsterstrasse 122)\,33106 Paderborn-Sande
SUMMARY:Kanu-Triathlon
URL:https://www.test.naturfreunde-bielefeld.de/index.php?option=com_jem&vie
 w=event&id=2618:kanu-triathlon
END:VEVENT
END:VCALENDAR
