
BEGIN:VCALENDAR
VERSION:2.0
PRODID:-//85.13.157.133//NONSGML kigkonsult.se iCalcreator 2.20//
CALSCALE:GREGORIAN
METHOD:PUBLISH
X-WR-TIMEZONE:Europe/Berlin
BEGIN:VEVENT
UID:event2710@NaturFreunde Bielefeld e.V.
DTSTAMP:20260421T120324Z
CATEGORIES:Senioren
DESCRIPTION:Rintelner Eisfahrt\nKategorie: Senioren\nICS-Link: https://www.
 test.naturfreunde-bielefeld.de/index.php?option=com_jem&view=event&id=2710
 :rintelner-eisfahrt\n
DTSTART;VALUE=DATE:20241207
DTEND;VALUE=DATE:20241208
SUMMARY:Rintelner Eisfahrt
URL:https://www.test.naturfreunde-bielefeld.de/index.php?option=com_jem&vie
 w=event&id=2710:rintelner-eisfahrt
END:VEVENT
END:VCALENDAR
