
BEGIN:VCALENDAR
VERSION:2.0
PRODID:-//85.13.157.133//NONSGML kigkonsult.se iCalcreator 2.20//
CALSCALE:GREGORIAN
METHOD:PUBLISH
X-WR-TIMEZONE:Europe/Berlin
BEGIN:VEVENT
UID:event2711@NaturFreunde Bielefeld e.V.
DTSTAMP:20260420T011334Z
CATEGORIES:Senioren
DESCRIPTION:Wanderung auf dem X19\nKategorie: Senioren\nICS-Link: https://w
 ww.test.naturfreunde-bielefeld.de/index.php?option=com_jem&view=event&id=2
 711:wanderung-auf-dem-x19\n
DTSTART;VALUE=DATE:20241207
DTEND;VALUE=DATE:20241208
SUMMARY:Wanderung auf dem X19
URL:https://www.test.naturfreunde-bielefeld.de/index.php?option=com_jem&vie
 w=event&id=2711:wanderung-auf-dem-x19
END:VEVENT
END:VCALENDAR
