
BEGIN:VCALENDAR
VERSION:2.0
PRODID:-//85.13.157.133//NONSGML kigkonsult.se iCalcreator 2.20//
CALSCALE:GREGORIAN
METHOD:PUBLISH
X-WR-TIMEZONE:Europe/Berlin
BEGIN:VEVENT
UID:event2748@NaturFreunde Bielefeld e.V.
DTSTAMP:20260421T104736Z
CATEGORIES:Senioren
DESCRIPTION:Senioren-KaffeeklÃƒÆ’?Ãƒâ€šÃ‚Â¶n\nKategorie: Senioren\nICS-Link
 : https://www.test.naturfreunde-bielefeld.de/index.php?option=com_jem&view
 =event&id=2748:senioren-kaffeekloen\n
DTSTART;VALUE=DATE:20241204
DTEND;VALUE=DATE:20241205
SUMMARY:Senioren-KaffeeklÃƒÆ’?Ãƒâ€šÃ‚Â¶n
URL:https://www.test.naturfreunde-bielefeld.de/index.php?option=com_jem&vie
 w=event&id=2748:senioren-kaffeekloen
END:VEVENT
END:VCALENDAR
