
BEGIN:VCALENDAR
VERSION:2.0
PRODID:-//85.13.157.133//NONSGML kigkonsult.se iCalcreator 2.20//
CALSCALE:GREGORIAN
METHOD:PUBLISH
X-WR-TIMEZONE:Europe/Berlin
BEGIN:VEVENT
UID:event2795@NaturFreunde Bielefeld e.V.
DTSTAMP:20260419T234408Z
CATEGORIES:Jugend
DESCRIPTION:DÃƒÆ’?Ãƒâ€š?sterwaldwochenende Oerlinghausen\nKategorie: Jugend
 \nICS-Link: https://www.test.naturfreunde-bielefeld.de/index.php?option=co
 m_jem&view=event&id=2795:duesterwaldwochenende-oerlinghausen\n
DTSTART;VALUE=DATE:20241207
DTEND;VALUE=DATE:20241209
SUMMARY:DÃƒÆ’?Ãƒâ€š?sterwaldwochenende Oerlinghausen
URL:https://www.test.naturfreunde-bielefeld.de/index.php?option=com_jem&vie
 w=event&id=2795:duesterwaldwochenende-oerlinghausen
END:VEVENT
END:VCALENDAR
