
BEGIN:VCALENDAR
VERSION:2.0
PRODID:-//85.13.157.133//NONSGML kigkonsult.se iCalcreator 2.20//
CALSCALE:GREGORIAN
METHOD:PUBLISH
X-WR-TIMEZONE:Europe/Berlin
BEGIN:VEVENT
UID:event2880@NaturFreunde Bielefeld e.V.
DTSTAMP:20260420T030526Z
CATEGORIES:Jugend
DESCRIPTION:Winterwoche in Rosenheim\nKategorie: Jugend\nICS-Link: https://
 www.test.naturfreunde-bielefeld.de/index.php?option=com_jem&view=event&id=
 2880:alter-ab-15-jahren-infos-und-anmeldung-bei-der-naturfreundejugend-unt
 er-31133-oder-tbw-naturfreundejugend-de\n
DTSTART;VALUE=DATE:20250102
DTEND;VALUE=DATE:20250107
SUMMARY:Winterwoche in Rosenheim
URL:https://www.test.naturfreunde-bielefeld.de/index.php?option=com_jem&vie
 w=event&id=2880:alter-ab-15-jahren-infos-und-anmeldung-bei-der-naturfreund
 ejugend-unter-31133-oder-tbw-naturfreundejugend-de
END:VEVENT
END:VCALENDAR
