
BEGIN:VCALENDAR
VERSION:2.0
PRODID:-//85.13.157.133//NONSGML kigkonsult.se iCalcreator 2.20//
CALSCALE:GREGORIAN
METHOD:PUBLISH
X-WR-TIMEZONE:Europe/Berlin
BEGIN:VEVENT
UID:event2890@NaturFreunde Bielefeld e.V.
DTSTAMP:20260422T104626Z
CATEGORIES:Schneesport
DESCRIPTION:Ski- und Snowboardausfahrt ins Sauerland fÃƒÆ’?Ãƒâ€š?r AnfÃƒÆ’?
 Ãƒâ€š?nger und Fortgeschrittene\nKategorie: Schneesport\nICS-Link: https:/
 /www.test.naturfreunde-bielefeld.de/index.php?option=com_jem&view=event&id
 =2890:aoebernachtung-und-verpflegung-im-nfh-mollseifen-anmeldung-und-info-
 bei-nora-unter-schneesport-naturfreunde-bielefeld-de\n
DTSTART;VALUE=DATE:20250117
DTEND;VALUE=DATE:20250120
SUMMARY:Ski- und Snowboardausfahrt ins Sauerland fÃƒÆ’?Ãƒâ€š?r AnfÃƒÆ’?Ãƒâ€
 š?nger und Fortgeschrittene
URL:https://www.test.naturfreunde-bielefeld.de/index.php?option=com_jem&vie
 w=event&id=2890:aoebernachtung-und-verpflegung-im-nfh-mollseifen-anmeldung
 -und-info-bei-nora-unter-schneesport-naturfreunde-bielefeld-de
END:VEVENT
END:VCALENDAR
