
BEGIN:VCALENDAR
VERSION:2.0
PRODID:-//85.13.157.133//NONSGML kigkonsult.se iCalcreator 2.20//
CALSCALE:GREGORIAN
METHOD:PUBLISH
X-WR-TIMEZONE:Europe/Berlin
BEGIN:VEVENT
UID:event3390@NaturFreunde Bielefeld e.V.
DTSTAMP:20260419T220533Z
CATEGORIES:Computer
DESCRIPTION:Computertreff im Meierhof Heepen\nKategorie: Computer\nICS-Link
 : https://www.test.naturfreunde-bielefeld.de/index.php?option=com_jem&view
 =event&id=3390:computertreff-im-meierhof-heepen\n
DTSTART;VALUE=DATE:20241206
DTEND;VALUE=DATE:20241207
SUMMARY:Computertreff im Meierhof Heepen
URL:https://www.test.naturfreunde-bielefeld.de/index.php?option=com_jem&vie
 w=event&id=3390:computertreff-im-meierhof-heepen
END:VEVENT
END:VCALENDAR
