
BEGIN:VCALENDAR
VERSION:2.0
PRODID:-//85.13.157.133//NONSGML kigkonsult.se iCalcreator 2.20//
CALSCALE:GREGORIAN
METHOD:PUBLISH
X-WR-TIMEZONE:Europe/Berlin
BEGIN:VEVENT
UID:event3460@NaturFreunde Bielefeld e.V.
DTSTAMP:20260419T235250Z
CATEGORIES:Jugend
DESCRIPTION:Weihnachtsmarkt mit BOOTsbar am Meierhof\nKategorie: Jugend\nIC
 S-Link: https://www.test.naturfreunde-bielefeld.de/index.php?option=com_je
 m&view=event&id=3460:weihnachtsmarkt-mit-bootsbar-am-meierhof\n
DTSTART;VALUE=DATE:20241220
DTEND;VALUE=DATE:20241221
SUMMARY:Weihnachtsmarkt mit BOOTsbar am Meierhof
URL:https://www.test.naturfreunde-bielefeld.de/index.php?option=com_jem&vie
 w=event&id=3460:weihnachtsmarkt-mit-bootsbar-am-meierhof
END:VEVENT
END:VCALENDAR
