
BEGIN:VCALENDAR
VERSION:2.0
PRODID:-//85.13.157.133//NONSGML kigkonsult.se iCalcreator 2.20//
CALSCALE:GREGORIAN
METHOD:PUBLISH
X-WR-TIMEZONE:Europe/Berlin
BEGIN:VEVENT
UID:event3485@NaturFreunde Bielefeld e.V.
DTSTAMP:20260419T220754Z
CATEGORIES:Kultur
DESCRIPTION:Rudis Wasserzyklus Teil 3\nKategorie: Kultur\nICS-Link: https:/
 /www.test.naturfreunde-bielefeld.de/index.php?option=com_jem&view=event&id
 =3485:rudis-wasserzyklus-teil-3\n
DTSTART;VALUE=DATE:20241206
DTEND;VALUE=DATE:20241207
SUMMARY:Rudis Wasserzyklus Teil 3
URL:https://www.test.naturfreunde-bielefeld.de/index.php?option=com_jem&vie
 w=event&id=3485:rudis-wasserzyklus-teil-3
END:VEVENT
END:VCALENDAR
