
BEGIN:VCALENDAR
VERSION:2.0
PRODID:-//85.13.157.133//NONSGML kigkonsult.se iCalcreator 2.20//
CALSCALE:GREGORIAN
METHOD:PUBLISH
X-WR-TIMEZONE:Europe/Berlin
BEGIN:VEVENT
UID:event3489@NaturFreunde Bielefeld e.V.
DTSTAMP:20260419T235521Z
CATEGORIES:Ortsgruppe
DESCRIPTION:Weihnachtsmarkt und GlÃƒÆ’?hweinabend im NFH Heepen\nKategorie:
  Ortsgruppe\nICS-Link: https://www.test.naturfreunde-bielefeld.de/index.ph
 p?option=com_jem&view=event&id=3489:weihnachtsmarkt-und-gluehweinabend-im-
 nfh-heepen\n
DTSTART;VALUE=DATE:20241220
DTEND;VALUE=DATE:20241221
SUMMARY:Weihnachtsmarkt und GlÃƒÆ’?hweinabend im NFH Heepen
URL:https://www.test.naturfreunde-bielefeld.de/index.php?option=com_jem&vie
 w=event&id=3489:weihnachtsmarkt-und-gluehweinabend-im-nfh-heepen
END:VEVENT
END:VCALENDAR
