
BEGIN:VCALENDAR
VERSION:2.0
PRODID:-//85.13.157.133//NONSGML kigkonsult.se iCalcreator 2.20//
CALSCALE:GREGORIAN
METHOD:PUBLISH
X-WR-TIMEZONE:Europe/Berlin
BEGIN:VEVENT
UID:event3496@NaturFreunde Bielefeld e.V.
DTSTAMP:20260420T045224Z
CATEGORIES:Kanu
DESCRIPTION:Kulinarisches Wochenende der Paddelgruppe\nKategorie: Kanu\nICS
 -Link: https://www.test.naturfreunde-bielefeld.de/index.php?option=com_jem
 &view=event&id=3496:wir-treffen-uns-in-geselliger-runde-zum-schlemmen-plau
 dern-und-zur-einstimmung-auf-den-saisonbeginn-in-oerlinghausen-anmeldung-b
 ei-martin-tel-01577-3292650\n
DTSTART;VALUE=DATE:20250125
DTEND;VALUE=DATE:20250127
SUMMARY:Kulinarisches Wochenende der Paddelgruppe
URL:https://www.test.naturfreunde-bielefeld.de/index.php?option=com_jem&vie
 w=event&id=3496:wir-treffen-uns-in-geselliger-runde-zum-schlemmen-plaudern
 -und-zur-einstimmung-auf-den-saisonbeginn-in-oerlinghausen-anmeldung-bei-m
 artin-tel-01577-3292650
END:VEVENT
END:VCALENDAR
