
BEGIN:VCALENDAR
VERSION:2.0
PRODID:-//85.13.157.133//NONSGML kigkonsult.se iCalcreator 2.20//
CALSCALE:GREGORIAN
METHOD:PUBLISH
X-WR-TIMEZONE:Europe/Berlin
BEGIN:VEVENT
UID:event3499@NaturFreunde Bielefeld e.V.
DTSTAMP:20260421T121925Z
CATEGORIES:Kanu
DESCRIPTION:Paddelreise an die ArdÃƒÆ’?che\nKategorie: Kanu\nICS-Link: http
 s://www.test.naturfreunde-bielefeld.de/index.php?option=com_jem&view=event
 &id=3499:in-den-osterferien-faehrt-eine-gruppe-nach-roums-frankreich-um-au
 f-der-ardeche-und-den-umliegenden-fluessen-zu-paddeln-wildwasser-genauer-z
 eitrahmen-wird-noch-festgelegt-anmeldung-bei-philipp-pmarx-live-de\n
DTSTART;VALUE=DATE:20250412
DTEND;VALUE=DATE:20250428
SUMMARY:Paddelreise an die ArdÃƒÆ’?che
URL:https://www.test.naturfreunde-bielefeld.de/index.php?option=com_jem&vie
 w=event&id=3499:in-den-osterferien-faehrt-eine-gruppe-nach-roums-frankreic
 h-um-auf-der-ardeche-und-den-umliegenden-fluessen-zu-paddeln-wildwasser-ge
 nauer-zeitrahmen-wird-noch-festgelegt-anmeldung-bei-philipp-pmarx-live-de
END:VEVENT
END:VCALENDAR
