
BEGIN:VCALENDAR
VERSION:2.0
PRODID:-//85.13.157.133//NONSGML kigkonsult.se iCalcreator 2.20//
CALSCALE:GREGORIAN
METHOD:PUBLISH
X-WR-TIMEZONE:Europe/Berlin
BEGIN:VEVENT
UID:event3500@NaturFreunde Bielefeld e.V.
DTSTAMP:20260420T011914Z
CATEGORIES:Senioren
DESCRIPTION:Spielenachmittag\nKategorie: Senioren\nICS-Link: https://www.te
 st.naturfreunde-bielefeld.de/index.php?option=com_jem&view=event&id=3500:a
 b-16-uhr-im-nfh-heepen-heeper-str-364-auskunft-bei-margarete-heine-tel-052
 1-173496\n
DTSTART;VALUE=DATE:20250103
DTEND;VALUE=DATE:20250104
SUMMARY:Spielenachmittag
URL:https://www.test.naturfreunde-bielefeld.de/index.php?option=com_jem&vie
 w=event&id=3500:ab-16-uhr-im-nfh-heepen-heeper-str-364-auskunft-bei-margar
 ete-heine-tel-0521-173496
END:VEVENT
END:VCALENDAR
