
BEGIN:VCALENDAR
VERSION:2.0
PRODID:-//85.13.157.133//NONSGML kigkonsult.se iCalcreator 2.20//
CALSCALE:GREGORIAN
METHOD:PUBLISH
X-WR-TIMEZONE:Europe/Berlin
BEGIN:VEVENT
UID:event3502@NaturFreunde Bielefeld e.V.
DTSTAMP:20260423T084242Z
CATEGORIES:Senioren
DESCRIPTION:Seniorenspaziergang mit Renate Obenhaus zu BÃƒÆ’?renkÃƒÆ’?mper
 \nKategorie: Senioren\nICS-Link: https://www.test.naturfreunde-bielefeld.d
 e/index.php?option=com_jem&view=event&id=3502:wir-fahren-mit-der-linie-3-u
 m-13-28-uhr-ab-jahnplatz-bis-voltmannstr\n
DTSTART;VALUE=DATE:20250115
DTEND;VALUE=DATE:20250116
SUMMARY:Seniorenspaziergang mit Renate Obenhaus zu BÃƒÆ’?renkÃƒÆ’?mper
URL:https://www.test.naturfreunde-bielefeld.de/index.php?option=com_jem&vie
 w=event&id=3502:wir-fahren-mit-der-linie-3-um-13-28-uhr-ab-jahnplatz-bis-v
 oltmannstr
END:VEVENT
END:VCALENDAR
