
BEGIN:VCALENDAR
VERSION:2.0
PRODID:-//85.13.157.133//NONSGML kigkonsult.se iCalcreator 2.20//
CALSCALE:GREGORIAN
METHOD:PUBLISH
X-WR-TIMEZONE:Europe/Berlin
BEGIN:VEVENT
UID:event3510@NaturFreunde Bielefeld e.V.
DTSTAMP:20260420T081830Z
CATEGORIES:Senioren
DESCRIPTION:Seniorenspaziergang\nKategorie: Senioren\nICS-Link: https://www
 .test.naturfreunde-bielefeld.de/index.php?option=com_jem&view=event&id=351
 0:mit-renate-obenhaus-zu-cafe-kraume-am-wellbach-wir-fahren-mit-linie-27-u
 m-13-24-uhr-ab-jahnplatz-bis-halhof\n
DTSTART;VALUE=DATE:20250312
DTEND;VALUE=DATE:20250313
SUMMARY:Seniorenspaziergang
URL:https://www.test.naturfreunde-bielefeld.de/index.php?option=com_jem&vie
 w=event&id=3510:mit-renate-obenhaus-zu-cafe-kraume-am-wellbach-wir-fahren-
 mit-linie-27-um-13-24-uhr-ab-jahnplatz-bis-halhof
END:VEVENT
END:VCALENDAR
