
BEGIN:VCALENDAR
VERSION:2.0
PRODID:-//85.13.157.133//NONSGML kigkonsult.se iCalcreator 2.20//
CALSCALE:GREGORIAN
METHOD:PUBLISH
X-WR-TIMEZONE:Europe/Berlin
BEGIN:VEVENT
UID:event3511@NaturFreunde Bielefeld e.V.
DTSTAMP:20260420T094258Z
CATEGORIES:Senioren
DESCRIPTION:Senioren-Mittagessen und Kaffeetrinken im Bielefelder NFH\nKate
 gorie: Senioren\nICS-Link: https://www.test.naturfreunde-bielefeld.de/inde
 x.php?option=com_jem&view=event&id=3511:start-um-10-22-uhr-mit-linie-24-in
 -sieker-bis-kastanienkrug-pkw-abholung-moeglich-anmeldung-bis-23-3-25-an-u
 lrike-waechter-tel-0521-58819136\n
DTSTART;VALUE=DATE:20250326
DTEND;VALUE=DATE:20250327
SUMMARY:Senioren-Mittagessen und Kaffeetrinken im Bielefelder NFH
URL:https://www.test.naturfreunde-bielefeld.de/index.php?option=com_jem&vie
 w=event&id=3511:start-um-10-22-uhr-mit-linie-24-in-sieker-bis-kastanienkru
 g-pkw-abholung-moeglich-anmeldung-bis-23-3-25-an-ulrike-waechter-tel-0521-
 58819136
END:VEVENT
END:VCALENDAR
