
BEGIN:VCALENDAR
VERSION:2.0
PRODID:-//85.13.157.133//NONSGML kigkonsult.se iCalcreator 2.20//
CALSCALE:GREGORIAN
METHOD:PUBLISH
X-WR-TIMEZONE:Europe/Berlin
BEGIN:VEVENT
UID:event3512@NaturFreunde Bielefeld e.V.
DTSTAMP:20260422T101948Z
CATEGORIES:Senioren
DESCRIPTION:Senioren-KaffeeklÃƒÆ’Ã‚Â¶n\nKategorie: Senioren\nICS-Link: http
 s://www.test.naturfreunde-bielefeld.de/index.php?option=com_jem&view=event
 &id=3512:ab-14-30-uhr-im-awo-zentrum-meinolfstr-4\n
DTSTART;VALUE=DATE:20250402
DTEND;VALUE=DATE:20250403
SUMMARY:Senioren-KaffeeklÃƒÆ’Ã‚Â¶n
URL:https://www.test.naturfreunde-bielefeld.de/index.php?option=com_jem&vie
 w=event&id=3512:ab-14-30-uhr-im-awo-zentrum-meinolfstr-4
END:VEVENT
END:VCALENDAR
