
BEGIN:VCALENDAR
VERSION:2.0
PRODID:-//85.13.157.133//NONSGML kigkonsult.se iCalcreator 2.20//
CALSCALE:GREGORIAN
METHOD:PUBLISH
X-WR-TIMEZONE:Europe/Berlin
BEGIN:VEVENT
UID:event3516@NaturFreunde Bielefeld e.V.
DTSTAMP:20260420T061728Z
CATEGORIES:Wanderungen
DESCRIPTION:Auf der Raute 5 von Dalbke nach Bielefeld\nKategorie: Wanderung
 en\nICS-Link: https://www.test.naturfreunde-bielefeld.de/index.php?option=
 com_jem&view=event&id=3516:laenge-ca-17-km-abkuerzung-moeglich-treff-9-30-
 uhr-bahnhof-rucksackverpflegung-kaffeeabschluss-anmeldung-bis-20-februar-2
 025-bei-elke-ehrlich-tel-0521-270724-oder-elke-naturfreunde-unity-mail-de
 \n
DTSTART;VALUE=DATE:20250222
DTEND;VALUE=DATE:20250223
SUMMARY:Auf der Raute 5 von Dalbke nach Bielefeld
URL:https://www.test.naturfreunde-bielefeld.de/index.php?option=com_jem&vie
 w=event&id=3516:laenge-ca-17-km-abkuerzung-moeglich-treff-9-30-uhr-bahnhof
 -rucksackverpflegung-kaffeeabschluss-anmeldung-bis-20-februar-2025-bei-elk
 e-ehrlich-tel-0521-270724-oder-elke-naturfreunde-unity-mail-de
END:VEVENT
END:VCALENDAR
