
BEGIN:VCALENDAR
VERSION:2.0
PRODID:-//85.13.157.133//NONSGML kigkonsult.se iCalcreator 2.20//
CALSCALE:GREGORIAN
METHOD:PUBLISH
X-WR-TIMEZONE:Europe/Berlin
BEGIN:VEVENT
UID:event3518@NaturFreunde Bielefeld e.V.
DTSTAMP:20260420T012035Z
CATEGORIES:Ortsgruppe
DESCRIPTION:NaturfreundefrÃƒÆ’?hstÃƒÆ’?ck auf dem groÃƒÆ’Ã‚Â¾en Boden\nKate
 gorie: Ortsgruppe\nICS-Link: https://www.test.naturfreunde-bielefeld.de/in
 dex.php?option=com_jem&view=event&id=3518:alle-sind-eingeladen-bringt-gern
 e-etwas-fuer-das-gemeinsame-buffet-mit-broetchen-und-kaffee-gibt-es-vor-or
 t-beginn-um-10-uhr-im-naturfreundehaus-heepen-heeper-str-364\n
DTSTART;VALUE=DATE:20250111
DTEND;VALUE=DATE:20250112
SUMMARY:NaturfreundefrÃƒÆ’?hstÃƒÆ’?ck auf dem groÃƒÆ’Ã‚Â¾en Boden
URL:https://www.test.naturfreunde-bielefeld.de/index.php?option=com_jem&vie
 w=event&id=3518:alle-sind-eingeladen-bringt-gerne-etwas-fuer-das-gemeinsam
 e-buffet-mit-broetchen-und-kaffee-gibt-es-vor-ort-beginn-um-10-uhr-im-natu
 rfreundehaus-heepen-heeper-str-364
END:VEVENT
END:VCALENDAR
