
BEGIN:VCALENDAR
VERSION:2.0
PRODID:-//85.13.157.133//NONSGML kigkonsult.se iCalcreator 2.20//
CALSCALE:GREGORIAN
METHOD:PUBLISH
X-WR-TIMEZONE:Europe/Berlin
BEGIN:VEVENT
UID:event3521@NaturFreunde Bielefeld e.V.
DTSTAMP:20260420T030526Z
CATEGORIES:Nordic Walking
DESCRIPTION:Nordic Walking am Eisgrund\nKategorie: Nordic Walking\nICS-Link
 : https://www.test.naturfreunde-bielefeld.de/index.php?option=com_jem&view
 =event&id=3521:treff-um-10-uhr-dort-auf-dem-parkplatz-auskunft-bei-frauke-
 erfkamp-tel-202636\n
DTSTART;VALUE=DATE:20250119
DTEND;VALUE=DATE:20250120
SUMMARY:Nordic Walking am Eisgrund
URL:https://www.test.naturfreunde-bielefeld.de/index.php?option=com_jem&vie
 w=event&id=3521:treff-um-10-uhr-dort-auf-dem-parkplatz-auskunft-bei-frauke
 -erfkamp-tel-202636
END:VEVENT
END:VCALENDAR
