
BEGIN:VCALENDAR
VERSION:2.0
PRODID:-//85.13.157.133//NONSGML kigkonsult.se iCalcreator 2.20//
CALSCALE:GREGORIAN
METHOD:PUBLISH
X-WR-TIMEZONE:Europe/Berlin
BEGIN:VEVENT
UID:event3522@NaturFreunde Bielefeld e.V.
DTSTAMP:20260420T061554Z
CATEGORIES:Nordic Walking
DESCRIPTION:Nordic Walking am NFH Meierhof\nKategorie: Nordic Walking\nICS-
 Link: https://www.test.naturfreunde-bielefeld.de/index.php?option=com_jem&
 view=event&id=3522:treff-um-10-uhr-auskunft-bei-frauke-erfkamp-tel-202636
 \n
DTSTART;VALUE=DATE:20250216
DTEND;VALUE=DATE:20250217
SUMMARY:Nordic Walking am NFH Meierhof
URL:https://www.test.naturfreunde-bielefeld.de/index.php?option=com_jem&vie
 w=event&id=3522:treff-um-10-uhr-auskunft-bei-frauke-erfkamp-tel-202636
END:VEVENT
END:VCALENDAR
