
BEGIN:VCALENDAR
VERSION:2.0
PRODID:-//85.13.157.133//NONSGML kigkonsult.se iCalcreator 2.20//
CALSCALE:GREGORIAN
METHOD:PUBLISH
X-WR-TIMEZONE:Europe/Berlin
BEGIN:VEVENT
UID:event3524@NaturFreunde Bielefeld e.V.
DTSTAMP:20260422T091040Z
CATEGORIES:Nordic Walking
DESCRIPTION:Nordic Walking auf unserer Lieblingsstrecke Bullerbeke in Senne
 stadt\nKategorie: Nordic Walking\nICS-Link: https://www.test.naturfreunde-
 bielefeld.de/index.php?option=com_jem&view=event&id=3524:treff-um-10-uhr-a
 uf-dem-wanderparkplatz-auskunft-bei-frauke-erfkamp-tel-202636\n
DTSTART;VALUE=DATE:20250316
DTEND;VALUE=DATE:20250317
SUMMARY:Nordic Walking auf unserer Lieblingsstrecke Bullerbeke in Sennestad
 t
URL:https://www.test.naturfreunde-bielefeld.de/index.php?option=com_jem&vie
 w=event&id=3524:treff-um-10-uhr-auf-dem-wanderparkplatz-auskunft-bei-frauk
 e-erfkamp-tel-202636
END:VEVENT
END:VCALENDAR
