
BEGIN:VCALENDAR
VERSION:2.0
PRODID:-//85.13.157.133//NONSGML kigkonsult.se iCalcreator 2.20//
CALSCALE:GREGORIAN
METHOD:PUBLISH
X-WR-TIMEZONE:Europe/Berlin
BEGIN:VEVENT
UID:event3527@NaturFreunde Bielefeld e.V.
DTSTAMP:20260423T084425Z
CATEGORIES:Wanderungen
DESCRIPTION:Rundwanderung von Kloster Oesede auf TERRA.tracks\nKategorie: W
 anderungen\nICS-Link: https://www.test.naturfreunde-bielefeld.de/index.php
 ?option=com_jem&view=event&id=3527:ueber-musenberg-zum-freeden-und-zurueck
 -laenge-ca-20-km-treff-um-8-50-uhr-bahnhof-rucksackverpflegung-kaffeeabsch
 luss-wenn-moeglich-anmeldung-bis-10-april-2025-bei-elke-ehrlich-tel-0521-2
 70724-oder-elke-naturfreunde-unity-mail-de\n
DTSTART;VALUE=DATE:20250412
DTEND;VALUE=DATE:20250413
SUMMARY:Rundwanderung von Kloster Oesede auf TERRA.tracks
URL:https://www.test.naturfreunde-bielefeld.de/index.php?option=com_jem&vie
 w=event&id=3527:ueber-musenberg-zum-freeden-und-zurueck-laenge-ca-20-km-tr
 eff-um-8-50-uhr-bahnhof-rucksackverpflegung-kaffeeabschluss-wenn-moeglich-
 anmeldung-bis-10-april-2025-bei-elke-ehrlich-tel-0521-270724-oder-elke-nat
 urfreunde-unity-mail-de
END:VEVENT
END:VCALENDAR
