
BEGIN:VCALENDAR
VERSION:2.0
PRODID:-//85.13.157.133//NONSGML kigkonsult.se iCalcreator 2.20//
CALSCALE:GREGORIAN
METHOD:PUBLISH
X-WR-TIMEZONE:Europe/Berlin
BEGIN:VEVENT
UID:event3528@NaturFreunde Bielefeld e.V.
DTSTAMP:20260422T090759Z
CATEGORIES:Wanderungen
DESCRIPTION:Wanderung ab dem Tierpark Olderdissen in Richtung HÃƒÆ’?nenburg
 \nKategorie: Wanderungen\nICS-Link: https://www.test.naturfreunde-bielefel
 d.de/index.php?option=com_jem&view=event&id=3528:ca-9-km-start-um-12-uhr-a
 m-parkplatz-olderdissen-einkehr-moeglich-anmeldung-an-ralf-waechter-tel-05
 21-58819137-oder-ralf-waechter-web-de\n
DTSTART;VALUE=DATE:20250209
DTEND;VALUE=DATE:20250210
SUMMARY:Wanderung ab dem Tierpark Olderdissen in Richtung HÃƒÆ’?nenburg
URL:https://www.test.naturfreunde-bielefeld.de/index.php?option=com_jem&vie
 w=event&id=3528:ca-9-km-start-um-12-uhr-am-parkplatz-olderdissen-einkehr-m
 oeglich-anmeldung-an-ralf-waechter-tel-0521-58819137-oder-ralf-waechter-we
 b-de
END:VEVENT
END:VCALENDAR
