
BEGIN:VCALENDAR
VERSION:2.0
PRODID:-//85.13.157.133//NONSGML kigkonsult.se iCalcreator 2.20//
CALSCALE:GREGORIAN
METHOD:PUBLISH
X-WR-TIMEZONE:Europe/Berlin
BEGIN:VEVENT
UID:event3529@NaturFreunde Bielefeld e.V.
DTSTAMP:20260421T152509Z
CATEGORIES:Wanderungen
DESCRIPTION:Wanderung ÃƒÆ’?ber A3 Dornberg und weitere Wege nach Olderdisse
 n\nKategorie: Wanderungen\nICS-Link: https://www.test.naturfreunde-bielefe
 ld.de/index.php?option=com_jem&view=event&id=3529:laenge-ca-12-km-11-uhr-a
 b-lohmannshof-linie-4-rucksackverpflegung-kaffeeabschluss-anmeldung-bis-25
 -januar-2025-bei-elke-ehrlich-tel-0521-270724-oder-elke-naturfreunde-unity
 -mail-de\n
DTSTART;VALUE=DATE:20250125
DTEND;VALUE=DATE:20250126
SUMMARY:Wanderung ÃƒÆ’?ber A3 Dornberg und weitere Wege nach Olderdissen
URL:https://www.test.naturfreunde-bielefeld.de/index.php?option=com_jem&vie
 w=event&id=3529:laenge-ca-12-km-11-uhr-ab-lohmannshof-linie-4-rucksackverp
 flegung-kaffeeabschluss-anmeldung-bis-25-januar-2025-bei-elke-ehrlich-tel-
 0521-270724-oder-elke-naturfreunde-unity-mail-de
END:VEVENT
END:VCALENDAR
