
BEGIN:VCALENDAR
VERSION:2.0
PRODID:-//85.13.157.133//NONSGML kigkonsult.se iCalcreator 2.20//
CALSCALE:GREGORIAN
METHOD:PUBLISH
X-WR-TIMEZONE:Europe/Berlin
BEGIN:VEVENT
UID:event3530@NaturFreunde Bielefeld e.V.
DTSTAMP:20260420T012019Z
CATEGORIES:Kultur
DESCRIPTION:JahresrÃƒÆ’?ckblick der NaturFreunde Bielefeld mit Elke\nKatego
 rie: Kultur\nICS-Link: https://www.test.naturfreunde-bielefeld.de/index.ph
 p?option=com_jem&view=event&id=3530:fotos-vorab-gerne-per-mail-an-elke-nat
 urfreunde-unity-mail-de-beginn-um-20-uhr-im-naturfreundehaus-heepen-heeper
 -str-364\n
DTSTART;VALUE=DATE:20250110
DTEND;VALUE=DATE:20250111
SUMMARY:JahresrÃƒÆ’?ckblick der NaturFreunde Bielefeld mit Elke
URL:https://www.test.naturfreunde-bielefeld.de/index.php?option=com_jem&vie
 w=event&id=3530:fotos-vorab-gerne-per-mail-an-elke-naturfreunde-unity-mail
 -de-beginn-um-20-uhr-im-naturfreundehaus-heepen-heeper-str-364
END:VEVENT
END:VCALENDAR
