
BEGIN:VCALENDAR
VERSION:2.0
PRODID:-//85.13.157.133//NONSGML kigkonsult.se iCalcreator 2.20//
CALSCALE:GREGORIAN
METHOD:PUBLISH
X-WR-TIMEZONE:Europe/Berlin
BEGIN:VEVENT
UID:event3531@NaturFreunde Bielefeld e.V.
DTSTAMP:20260420T030623Z
CATEGORIES:Kultur
DESCRIPTION:Die polnische OstseekÃƒÆ’?ste - Mit Zug und zu FuÃƒÆ’Ã‚Â¾ nach 
 Danzig\nKategorie: Kultur\nICS-Link: https://www.test.naturfreunde-bielefe
 ld.de/index.php?option=com_jem&view=event&id=3531:sonja-und-heiner-bericht
 en-von-ihrer-tour-beginn-um-20-uhr-im-naturfreundehaus-heepen-heeper-str-3
 64\n
DTSTART;VALUE=DATE:20250117
DTEND;VALUE=DATE:20250118
SUMMARY:Die polnische OstseekÃƒÆ’?ste - Mit Zug und zu FuÃƒÆ’Ã‚Â¾ nach Danz
 ig
URL:https://www.test.naturfreunde-bielefeld.de/index.php?option=com_jem&vie
 w=event&id=3531:sonja-und-heiner-berichten-von-ihrer-tour-beginn-um-20-uhr
 -im-naturfreundehaus-heepen-heeper-str-364
END:VEVENT
END:VCALENDAR
