
BEGIN:VCALENDAR
VERSION:2.0
PRODID:-//85.13.157.133//NONSGML kigkonsult.se iCalcreator 2.20//
CALSCALE:GREGORIAN
METHOD:PUBLISH
X-WR-TIMEZONE:Europe/Berlin
BEGIN:VEVENT
UID:event3532@NaturFreunde Bielefeld e.V.
DTSTAMP:20260420T045105Z
CATEGORIES:Kultur
DESCRIPTION:Musik-Abend mit Rolf: Neue Lieder braucht das Land\nKategorie: 
 Kultur\nICS-Link: https://www.test.naturfreunde-bielefeld.de/index.php?opt
 ion=com_jem&view=event&id=3532:beginn-um-20-uhr-im-naturfreundehaus-heepen
 -heeper-str-364-beginn-um-20-uhr-im-naturfreundehaus-heepen-heeper-str-364
 \n
DTSTART;VALUE=DATE:20250124
DTEND;VALUE=DATE:20250125
SUMMARY:Musik-Abend mit Rolf: Neue Lieder braucht das Land
URL:https://www.test.naturfreunde-bielefeld.de/index.php?option=com_jem&vie
 w=event&id=3532:beginn-um-20-uhr-im-naturfreundehaus-heepen-heeper-str-364
 -beginn-um-20-uhr-im-naturfreundehaus-heepen-heeper-str-364
END:VEVENT
END:VCALENDAR
