
BEGIN:VCALENDAR
VERSION:2.0
PRODID:-//85.13.157.133//NONSGML kigkonsult.se iCalcreator 2.20//
CALSCALE:GREGORIAN
METHOD:PUBLISH
X-WR-TIMEZONE:Europe/Berlin
BEGIN:VEVENT
UID:event3533@NaturFreunde Bielefeld e.V.
DTSTAMP:20260421T134209Z
CATEGORIES:Kultur
DESCRIPTION:KÃƒÆ’?nstliche Befruchtung und andere Tabuthemen - unsere Gesel
 lschaft zwischen Science-Fiction und Politik\nKategorie: Kultur\nICS-Link:
  https://www.test.naturfreunde-bielefeld.de/index.php?option=com_jem&view=
 event&id=3533:sonja-berichtet-aus-dem-unterricht-und-eigener-erfahrung\n
DTSTART;VALUE=DATE:20250131
DTEND;VALUE=DATE:20250201
SUMMARY:KÃƒÆ’?nstliche Befruchtung und andere Tabuthemen - unsere Gesellsch
 aft zwischen Science-Fiction und Politik
URL:https://www.test.naturfreunde-bielefeld.de/index.php?option=com_jem&vie
 w=event&id=3533:sonja-berichtet-aus-dem-unterricht-und-eigener-erfahrung
END:VEVENT
END:VCALENDAR
