
BEGIN:VCALENDAR
VERSION:2.0
PRODID:-//85.13.157.133//NONSGML kigkonsult.se iCalcreator 2.20//
CALSCALE:GREGORIAN
METHOD:PUBLISH
X-WR-TIMEZONE:Europe/Berlin
BEGIN:VEVENT
UID:event3535@NaturFreunde Bielefeld e.V.
DTSTAMP:20260420T081132Z
CATEGORIES:Kultur
DESCRIPTION:Wandern im AltmÃƒÆ’?hltal - Elke zeigt uns die Fotos der Touren
  2020\, 2021 und 2023\nKategorie: Kultur\nICS-Link: https://www.test.natur
 freunde-bielefeld.de/index.php?option=com_jem&view=event&id=3535:beginn-um
 -20-uhr-im-naturfreundehaus-heepen-heeper-str-364\n
DTSTART;VALUE=DATE:20250214
DTEND;VALUE=DATE:20250215
SUMMARY:Wandern im AltmÃƒÆ’?hltal - Elke zeigt uns die Fotos der Touren 202
 0\, 2021 und 2023
URL:https://www.test.naturfreunde-bielefeld.de/index.php?option=com_jem&vie
 w=event&id=3535:beginn-um-20-uhr-im-naturfreundehaus-heepen-heeper-str-364
END:VEVENT
END:VCALENDAR
