
BEGIN:VCALENDAR
VERSION:2.0
PRODID:-//85.13.157.133//NONSGML kigkonsult.se iCalcreator 2.20//
CALSCALE:GREGORIAN
METHOD:PUBLISH
X-WR-TIMEZONE:Europe/Berlin
BEGIN:VEVENT
UID:event3536@NaturFreunde Bielefeld e.V.
DTSTAMP:20260420T061852Z
CATEGORIES:Kultur
DESCRIPTION:GemÃƒÆ’?tlicher KlÃƒÆ’Ã‚Â¶nabend im Naturfreundehaus\nKategorie
 : Kultur\nICS-Link: https://www.test.naturfreunde-bielefeld.de/index.php?o
 ption=com_jem&view=event&id=3536:fingerfood-darf-gerne-mitgebracht-werden-
 ansprechpartner-sind-eva-und-willi-01577-4183308-beginn-um-20-uhr-im-natur
 freundehaus-heepen-heeper-str-364\n
DTSTART;VALUE=DATE:20250228
DTEND;VALUE=DATE:20250301
SUMMARY:GemÃƒÆ’?tlicher KlÃƒÆ’Ã‚Â¶nabend im Naturfreundehaus
URL:https://www.test.naturfreunde-bielefeld.de/index.php?option=com_jem&vie
 w=event&id=3536:fingerfood-darf-gerne-mitgebracht-werden-ansprechpartner-s
 ind-eva-und-willi-01577-4183308-beginn-um-20-uhr-im-naturfreundehaus-heepe
 n-heeper-str-364
END:VEVENT
END:VCALENDAR
