
BEGIN:VCALENDAR
VERSION:2.0
PRODID:-//85.13.157.133//NONSGML kigkonsult.se iCalcreator 2.20//
CALSCALE:GREGORIAN
METHOD:PUBLISH
X-WR-TIMEZONE:Europe/Berlin
BEGIN:VEVENT
UID:event3537@NaturFreunde Bielefeld e.V.
DTSTAMP:20260422T105607Z
CATEGORIES:Kultur
DESCRIPTION:Immer noch Klimawandel. Ralf MÃƒÆ’?ller berichtet von seiner le
 tzten Reise in afrikanische Staaten\nKategorie: Kultur\nICS-Link: https://
 www.test.naturfreunde-bielefeld.de/index.php?option=com_jem&view=event&id=
 3537:beginn-um-20-uhr-im-naturfreundehaus-heepen-heeper-str-364\n
DTSTART;VALUE=DATE:20250221
DTEND;VALUE=DATE:20250222
SUMMARY:Immer noch Klimawandel. Ralf MÃƒÆ’?ller berichtet von seiner letzte
 n Reise in afrikanische Staaten
URL:https://www.test.naturfreunde-bielefeld.de/index.php?option=com_jem&vie
 w=event&id=3537:beginn-um-20-uhr-im-naturfreundehaus-heepen-heeper-str-364
END:VEVENT
END:VCALENDAR
