
BEGIN:VCALENDAR
VERSION:2.0
PRODID:-//85.13.157.133//NONSGML kigkonsult.se iCalcreator 2.20//
CALSCALE:GREGORIAN
METHOD:PUBLISH
X-WR-TIMEZONE:Europe/Berlin
BEGIN:VEVENT
UID:event3539@NaturFreunde Bielefeld e.V.
DTSTAMP:20260420T081302Z
CATEGORIES:Kultur
DESCRIPTION:Arbeitskreis Kultur und Touristik\nKategorie: Kultur\nICS-Link:
  https://www.test.naturfreunde-bielefeld.de/index.php?option=com_jem&view=
 event&id=3539:wir-erstellen-das-programm-fuer-die-monate-mai-bis-august-ko
 mm-vorbei-und-bring-deine-ideen-ein-beginn-um-20-uhr-im-naturfreundehaus-h
 eepen-heeper-str-364\n
DTSTART;VALUE=DATE:20250314
DTEND;VALUE=DATE:20250315
SUMMARY:Arbeitskreis Kultur und Touristik
URL:https://www.test.naturfreunde-bielefeld.de/index.php?option=com_jem&vie
 w=event&id=3539:wir-erstellen-das-programm-fuer-die-monate-mai-bis-august-
 komm-vorbei-und-bring-deine-ideen-ein-beginn-um-20-uhr-im-naturfreundehaus
 -heepen-heeper-str-364
END:VEVENT
END:VCALENDAR
