
BEGIN:VCALENDAR
VERSION:2.0
PRODID:-//85.13.157.133//NONSGML kigkonsult.se iCalcreator 2.20//
CALSCALE:GREGORIAN
METHOD:PUBLISH
X-WR-TIMEZONE:Europe/Berlin
BEGIN:VEVENT
UID:event3540@NaturFreunde Bielefeld e.V.
DTSTAMP:20260420T094235Z
CATEGORIES:Kultur
DESCRIPTION:Playbacktheater auf dem Meierhof\nKategorie: Kultur\nICS-Link: 
 https://www.test.naturfreunde-bielefeld.de/index.php?option=com_jem&view=e
 vent&id=3540:ihr-erzaehlt-und-wir-spielen-eure-geschichten-aktuelle-oder-a
 us-111-jahren-naturfreudearbeit-in-bielefeld-wir-freuen-uns-auf-einen-unte
 rhaltsamen-abend-mit-klaus-und-kolleginnen-beginn-um-20-uhr-im-nfh-heepen-
 heeper-str-364\n
DTSTART;VALUE=DATE:20250321
DTEND;VALUE=DATE:20250322
SUMMARY:Playbacktheater auf dem Meierhof
URL:https://www.test.naturfreunde-bielefeld.de/index.php?option=com_jem&vie
 w=event&id=3540:ihr-erzaehlt-und-wir-spielen-eure-geschichten-aktuelle-ode
 r-aus-111-jahren-naturfreudearbeit-in-bielefeld-wir-freuen-uns-auf-einen-u
 nterhaltsamen-abend-mit-klaus-und-kolleginnen-beginn-um-20-uhr-im-nfh-heep
 en-heeper-str-364
END:VEVENT
END:VCALENDAR
