
BEGIN:VCALENDAR
VERSION:2.0
PRODID:-//85.13.157.133//NONSGML kigkonsult.se iCalcreator 2.20//
CALSCALE:GREGORIAN
METHOD:PUBLISH
X-WR-TIMEZONE:Europe/Berlin
BEGIN:VEVENT
UID:event3541@NaturFreunde Bielefeld e.V.
DTSTAMP:20260422T104534Z
CATEGORIES:Kultur
DESCRIPTION:Bielefeld auf dem Weg zur KlimaneutralitÃƒÆ’?t 2030 - wie ist d
 er Stand und wasÃƒâ€šÃ‚Â kannÃƒâ€šÃ‚Â ichÃƒâ€šÃ‚Â tun?\nKategorie: Kultur
 \nICS-Link: https://www.test.naturfreunde-bielefeld.de/index.php?option=co
 m_jem&view=event&id=3541:gerd-fuehrt-uns-durch-die-thematik-beginn-um-20-u
 hr-im-naturfreundehaus-heepen-heeper-str-364\n
DTSTART;VALUE=DATE:20250328
DTEND;VALUE=DATE:20250329
SUMMARY:Bielefeld auf dem Weg zur KlimaneutralitÃƒÆ’?t 2030 - wie ist der S
 tand und wasÃƒâ€šÃ‚Â kannÃƒâ€šÃ‚Â ichÃƒâ€šÃ‚Â tun?
URL:https://www.test.naturfreunde-bielefeld.de/index.php?option=com_jem&vie
 w=event&id=3541:gerd-fuehrt-uns-durch-die-thematik-beginn-um-20-uhr-im-nat
 urfreundehaus-heepen-heeper-str-364
END:VEVENT
END:VCALENDAR
