
BEGIN:VCALENDAR
VERSION:2.0
PRODID:-//85.13.157.133//NONSGML kigkonsult.se iCalcreator 2.20//
CALSCALE:GREGORIAN
METHOD:PUBLISH
X-WR-TIMEZONE:Europe/Berlin
BEGIN:VEVENT
UID:event3542@NaturFreunde Bielefeld e.V.
DTSTAMP:20260420T093937Z
CATEGORIES:Kultur
DESCRIPTION:Rudis Wasserzyklus Teil 6. Wasser und Technik - Vom Kanal bis z
 um Pumpspeicher\nKategorie: Kultur\nICS-Link: https://www.test.naturfreund
 e-bielefeld.de/index.php?option=com_jem&view=event&id=3542:beginn-um-20-uh
 r-im-naturfreundehaus-heepen-heeper-str-364\n
DTSTART;VALUE=DATE:20250404
DTEND;VALUE=DATE:20250405
SUMMARY:Rudis Wasserzyklus Teil 6. Wasser und Technik - Vom Kanal bis zum P
 umpspeicher
URL:https://www.test.naturfreunde-bielefeld.de/index.php?option=com_jem&vie
 w=event&id=3542:beginn-um-20-uhr-im-naturfreundehaus-heepen-heeper-str-364
END:VEVENT
END:VCALENDAR
