
BEGIN:VCALENDAR
VERSION:2.0
PRODID:-//85.13.157.133//NONSGML kigkonsult.se iCalcreator 2.20//
CALSCALE:GREGORIAN
METHOD:PUBLISH
X-WR-TIMEZONE:Europe/Berlin
BEGIN:VEVENT
UID:event3544@NaturFreunde Bielefeld e.V.
DTSTAMP:20260420T061621Z
CATEGORIES:Jugend
DESCRIPTION:SeSon Veganen Brotaufstrich am Meierhof selber machen\nKategori
 e: Jugend\nICS-Link: https://www.test.naturfreunde-bielefeld.de/index.php?
 option=com_jem&view=event&id=3544:alter-ab-10-jahren-infos-und-anmeldung-b
 ei-der-naturfreundejugend-unter-31133-oder-tbw-naturfreundejugend-de\n
DTSTART;VALUE=DATE:20250223
DTEND;VALUE=DATE:20250224
SUMMARY:SeSon Veganen Brotaufstrich am Meierhof selber machen
URL:https://www.test.naturfreunde-bielefeld.de/index.php?option=com_jem&vie
 w=event&id=3544:alter-ab-10-jahren-infos-und-anmeldung-bei-der-naturfreund
 ejugend-unter-31133-oder-tbw-naturfreundejugend-de
END:VEVENT
END:VCALENDAR
