
BEGIN:VCALENDAR
VERSION:2.0
PRODID:-//85.13.157.133//NONSGML kigkonsult.se iCalcreator 2.20//
CALSCALE:GREGORIAN
METHOD:PUBLISH
X-WR-TIMEZONE:Europe/Berlin
BEGIN:VEVENT
UID:event3545@NaturFreunde Bielefeld e.V.
DTSTAMP:20260420T093811Z
CATEGORIES:Jugend
DESCRIPTION:Juleica Gruppenleiter*innen-Ausbildung Modul 1 im Naturfreundeh
 aus Brackwede\nKategorie: Jugend\nICS-Link: https://www.test.naturfreunde-
 bielefeld.de/index.php?option=com_jem&view=event&id=3545:alter-ab-16-jahre
 n-infos-und-anmeldung-bei-der-naturfreundejugend-unter-31133-oder-tbw-natu
 rfreundejugend-de\n
DTSTART;VALUE=DATE:20250308
DTEND;VALUE=DATE:20250310
SUMMARY:Juleica Gruppenleiter*innen-Ausbildung Modul 1 im Naturfreundehaus 
 Brackwede
URL:https://www.test.naturfreunde-bielefeld.de/index.php?option=com_jem&vie
 w=event&id=3545:alter-ab-16-jahren-infos-und-anmeldung-bei-der-naturfreund
 ejugend-unter-31133-oder-tbw-naturfreundejugend-de
END:VEVENT
END:VCALENDAR
