
BEGIN:VCALENDAR
VERSION:2.0
PRODID:-//85.13.157.133//NONSGML kigkonsult.se iCalcreator 2.20//
CALSCALE:GREGORIAN
METHOD:PUBLISH
X-WR-TIMEZONE:Europe/Berlin
BEGIN:VEVENT
UID:event3547@NaturFreunde Bielefeld e.V.
DTSTAMP:20260420T094059Z
CATEGORIES:Jugend
DESCRIPTION:Cash in trash out (MÃƒÆ’?llsammelaktion)\nKategorie: Jugend\nIC
 S-Link: https://www.test.naturfreunde-bielefeld.de/index.php?option=com_je
 m&view=event&id=3547:fuer-alle-altersgruppen-infos-und-anmeldung-bei-der-n
 aturfreundejugend-unter-31133-oder-tbw-naturfreundejugend-de\n
DTSTART;VALUE=DATE:20250329
DTEND;VALUE=DATE:20250330
SUMMARY:Cash in trash out (MÃƒÆ’?llsammelaktion)
URL:https://www.test.naturfreunde-bielefeld.de/index.php?option=com_jem&vie
 w=event&id=3547:fuer-alle-altersgruppen-infos-und-anmeldung-bei-der-naturf
 reundejugend-unter-31133-oder-tbw-naturfreundejugend-de
END:VEVENT
END:VCALENDAR
