
BEGIN:VCALENDAR
VERSION:2.0
PRODID:-//85.13.157.133//NONSGML kigkonsult.se iCalcreator 2.20//
CALSCALE:GREGORIAN
METHOD:PUBLISH
X-WR-TIMEZONE:Europe/Berlin
BEGIN:VEVENT
UID:event3548@NaturFreunde Bielefeld e.V.
DTSTAMP:20260421T133841Z
CATEGORIES:Jugend
DESCRIPTION:Juleica Gruppenleiter*innen-Ausbildung Modul 2 Segeln auf dem W
 attenmeer\nKategorie: Jugend\nICS-Link: https://www.test.naturfreunde-biel
 efeld.de/index.php?option=com_jem&view=event&id=3548:alter-ab-16-jahren-in
 fos-und-anmeldung-bei-der-naturfreundejugend-unter-31133-oder-tbw-naturfre
 undejugend-de\n
DTSTART;VALUE=DATE:20250413
DTEND;VALUE=DATE:20250429
SUMMARY:Juleica Gruppenleiter*innen-Ausbildung Modul 2 Segeln auf dem Watte
 nmeer
URL:https://www.test.naturfreunde-bielefeld.de/index.php?option=com_jem&vie
 w=event&id=3548:alter-ab-16-jahren-infos-und-anmeldung-bei-der-naturfreund
 ejugend-unter-31133-oder-tbw-naturfreundejugend-de
END:VEVENT
END:VCALENDAR
