
BEGIN:VCALENDAR
VERSION:2.0
PRODID:-//85.13.157.133//NONSGML kigkonsult.se iCalcreator 2.20//
CALSCALE:GREGORIAN
METHOD:PUBLISH
X-WR-TIMEZONE:Europe/Berlin
BEGIN:VEVENT
UID:event3550@NaturFreunde Bielefeld e.V.
DTSTAMP:20260421T153801Z
CATEGORIES:Jugend
DESCRIPTION:FrÃƒÆ’?hlingsferienspiele am Meierhof zweite Ferienwoche\nKateg
 orie: Jugend\nICS-Link: https://www.test.naturfreunde-bielefeld.de/index.p
 hp?option=com_jem&view=event&id=3550:alter-von-9-bis-13-jahren-infos-und-a
 nmeldung-bei-der-naturfreundejugend-unter-31133-oder-tbw-naturfreundejugen
 d-de\n
DTSTART;VALUE=DATE:20250422
DTEND;VALUE=DATE:20250426
SUMMARY:FrÃƒÆ’?hlingsferienspiele am Meierhof zweite Ferienwoche
URL:https://www.test.naturfreunde-bielefeld.de/index.php?option=com_jem&vie
 w=event&id=3550:alter-von-9-bis-13-jahren-infos-und-anmeldung-bei-der-natu
 rfreundejugend-unter-31133-oder-tbw-naturfreundejugend-de
END:VEVENT
END:VCALENDAR
