
BEGIN:VCALENDAR
VERSION:2.0
PRODID:-//85.13.157.133//NONSGML kigkonsult.se iCalcreator 2.20//
CALSCALE:GREGORIAN
METHOD:PUBLISH
X-WR-TIMEZONE:Europe/Berlin
BEGIN:VEVENT
UID:event3557@NaturFreunde Bielefeld e.V.
DTSTAMP:20260421T152607Z
CATEGORIES:Kultur
DESCRIPTION:Nachholtermin: Rudis Wasserzyklus Teil 5. Mein Wasser!! - Dein 
 Wasser? Wem gehört das Wasser?? Ein Blick auf lokale\, nationale und inter
 nationale Regelungen\nKategorie: Kultur\nICS-Link: https://www.test.naturf
 reunde-bielefeld.de/index.php?option=com_jem&view=event&id=3557:nachholter
 min-rudis-wasserzyklus-teil-5-mein-wasser-dein-wasser-wem-gehoert-das-wass
 er-ein-blick-auf-lokale-nationale-und-internationale-regelungen\n
DTSTART;VALUE=DATE:20250509
DTEND;VALUE=DATE:20250510
SUMMARY:Nachholtermin: Rudis Wasserzyklus Teil 5. Mein Wasser!! - Dein Wass
 er? Wem gehört das Wasser?? Ein Blick auf lokale\, nationale und internati
 onale Regelungen
URL:https://www.test.naturfreunde-bielefeld.de/index.php?option=com_jem&vie
 w=event&id=3557:nachholtermin-rudis-wasserzyklus-teil-5-mein-wasser-dein-w
 asser-wem-gehoert-das-wasser-ein-blick-auf-lokale-nationale-und-internatio
 nale-regelungen
END:VEVENT
END:VCALENDAR
