
BEGIN:VCALENDAR
VERSION:2.0
PRODID:-//85.13.157.133//NONSGML kigkonsult.se iCalcreator 2.20//
CALSCALE:GREGORIAN
METHOD:PUBLISH
X-WR-TIMEZONE:Europe/Berlin
BEGIN:VEVENT
UID:event3558@NaturFreunde Bielefeld e.V.
DTSTAMP:20260423T084237Z
CATEGORIES:Wanderungen
DESCRIPTION:Rundwanderung auf dem Altenauweg\, 3. Etappe von Etteln nach Bo
 rchen\, Länge ca. 22 km\nKategorie: Wanderungen\nICS-Link: https://www.tes
 t.naturfreunde-bielefeld.de/index.php?option=com_jem&view=event&id=3558:ru
 ndwanderung-auf-dem-altenauweg-3-etappe-von-etteln-nach-borchen-laenge-ca-
 22-km\n
DTSTART;VALUE=DATE:20250510
DTEND;VALUE=DATE:20250511
SUMMARY:Rundwanderung auf dem Altenauweg\, 3. Etappe von Etteln nach Borche
 n\, Länge ca. 22 km
URL:https://www.test.naturfreunde-bielefeld.de/index.php?option=com_jem&vie
 w=event&id=3558:rundwanderung-auf-dem-altenauweg-3-etappe-von-etteln-nach-
 borchen-laenge-ca-22-km
END:VEVENT
END:VCALENDAR
